BEGIN:VCALENDAR
VERSION:2.0
PRODID:icalendar-ruby
CALSCALE:GREGORIAN
BEGIN:VEVENT
DTSTAMP:20260423T144013Z
UID:6212542d-9cca-432c-a7d4-f4636f2a2337
DTSTART;VALUE=DATE:20231101
DESCRIPTION:Property ID# 564133\, Time: 12:00PM
SUMMARY:Auction for 
END:VEVENT
END:VCALENDAR
